BEGIN:VCALENDAR
VERSION:2.0
CALSCALE:GREGORIAN
BEGIN:VEVENT
SUMMARY:Body Sculpt
DTSTART;TZID=Australia/Sydney:20260409T173000
DTEND;TZID=Australia/Sydney:20260409T181500
LOCATION:Shellharbour City Yoga
DESCRIPTION: A dynamic fusion of yoga, Pilates, and weight training designed to strengthen, tone, and define your body. This class blends mindful movement with resistance work to build core stability, improve posture, and enhance overall strength. You’ll leave feeling empowered, energized, and sculpted from the inside out.
STATUS:CONFIRMED
SEQUENCE:0
END:VEVENT
END:VCALENDAR