BEGIN:VCALENDAR
VERSION:2.0
CALSCALE:GREGORIAN
BEGIN:VEVENT
SUMMARY:Lunch Reset: Sound Journey
DTSTART;TZID=Asia/Hong_Kong:20260115T130000
DTEND;TZID=Asia/Hong_Kong:20260115T134500
LOCATION:Siddhi Yoga &amp; Wellness
DESCRIPTION: Mid Day Rest.
Charge your body with harmonic sound vibrations, allow your body &amp; mind to relax &amp; refocus.
STATUS:CONFIRMED
SEQUENCE:0
END:VEVENT
END:VCALENDAR