BEGIN:VCALENDAR
VERSION:2.0
CALSCALE:GREGORIAN
BEGIN:VEVENT
SUMMARY:Gentle Movement &amp; Sound
DTSTART;TZID=Asia/Hong_Kong:20260201T110000
DTEND;TZID=Asia/Hong_Kong:20260201T120000
LOCATION:Siddhi Yoga &amp; Wellness
DESCRIPTION: Gentle Movement to release tightness from the body and immerse yourself with a sound bath to release tension from the mind. Reset on a Sunday.
STATUS:CONFIRMED
SEQUENCE:0
END:VEVENT
END:VCALENDAR