BEGIN:VCALENDAR
VERSION:2.0
CALSCALE:GREGORIAN
BEGIN:VEVENT
SUMMARY:Pilates Balance
DTSTART;TZID=Europe/Berlin:20260129T173000
DTEND;TZID=Europe/Berlin:20260129T182000
LOCATION:Jüdefelderstraße 43
DESCRIPTION: Dieser Pilates Balance Kurs verbindet gezielte Mobilisation und sanfte Kräftigung zu einem ausgewogenen Ganzkörpertraining. Mit fließenden Bewegungen stärken wir die Körpermitte, fördern Stabilität und Balance und schaffen ein neues Bewusstsein für Haltung und Leichtigkeit im Alltag.

Die Stunde richtet sich vor allem an die Mittelstufe, bietet jedoch auch Anfängern einen sanften Einstieg in das Training.
STATUS:CONFIRMED
SEQUENCE:0
END:VEVENT
END:VCALENDAR