BEGIN:VCALENDAR
VERSION:2.0
CALSCALE:GREGORIAN
BEGIN:VEVENT
SUMMARY:Pilates Evening Flow
DTSTART;TZID=Europe/Berlin:20260424T182000
DTEND;TZID=Europe/Berlin:20260424T191000
LOCATION:Jüdefelderstraße 43
DESCRIPTION: Level: Für alle Niveaus geeignet

Pilates Evening Flow ist ein ruhiger, fließender Pilateskurs zum Ausklang des Tages. Sanfte Kräftigung, Mobilisation und bewusste Atmung verbinden sich zu harmonischen Bewegungsabläufen.

Der Körper wird ganzheitlich durchbewegt, Verspannungen können gelöst und die Beweglichkeit verbessert werden. Besonders Rücken, Schultern und Hüften werden mobilisiert und gedehnt.

Der Fokus liegt auf fließenden Bewegungen, Entspannung und einem wohltuenden Abschluss des Tages.

Ideal, um nach einem aktiven Tag abzuschalten, neue Energie zu tanken und entspannt in den Abend zu gehen.
STATUS:CONFIRMED
SEQUENCE:0
END:VEVENT
END:VCALENDAR