BEGIN:VCALENDAR
VERSION:2.0
CALSCALE:GREGORIAN
BEGIN:VEVENT
SUMMARY:Morning Vinyasa
DTSTART;TZID=Europe/Amsterdam:20230904T100000
DTEND;TZID=Europe/Amsterdam:20230904T110000
LOCATION:Zaal 3
DESCRIPTION: Een manier van yoga waarbij de ademhaling ook centraal staat. Met elke in en uitademing flow je in de les van houding naar houding waardoor een dynamische les ontstaat. Heerlijk rustig de week beginnen.

Deze les is voor all levels beschikbaar.
STATUS:CONFIRMED
SEQUENCE:0
END:VEVENT
END:VCALENDAR