BEGIN:VCALENDAR
VERSION:2.0
CALSCALE:GREGORIAN
BEGIN:VEVENT
SUMMARY:Morning Vinyasa
DTSTART;TZID=Europe/Amsterdam:20231002T100000
DTEND;TZID=Europe/Amsterdam:20231002T110000
LOCATION:Zaal 3
DESCRIPTION: Let op: er wordt nog gekeken naar de specifieke tijd van deze les. Deze kan nog veranderen!

Een manier van yoga waarbij de ademhaling ook centraal staat. Met elke in en uitademing flow je in de les van houding naar houding waardoor een dynamische les ontstaat.

Deze les is voor all levels beschikbaar.
STATUS:CONFIRMED
SEQUENCE:0
END:VEVENT
END:VCALENDAR