BEGIN:VCALENDAR
VERSION:2.0
CALSCALE:GREGORIAN
BEGIN:VEVENT
SUMMARY:Slow Evening Vinyasa
DTSTART;TZID=Europe/Amsterdam:20231107T190000
DTEND;TZID=Europe/Amsterdam:20231107T200000
LOCATION:Zaal 3
DESCRIPTION: Een manier van yoga waarbij de ademhaling ook centraal staat. Met elke in en uitademing flow je in de les van houding naar houding waardoor een dynamische les ontstaat. Je lichaam op een rustige manier in beweging brengen, zodat je uitgerust de avond kunt beginnen.

Deze les is voor all levels beschikbaar.
STATUS:CONFIRMED
SEQUENCE:0
END:VEVENT
END:VCALENDAR