BEGIN:VCALENDAR
VERSION:2.0
CALSCALE:GREGORIAN
BEGIN:VEVENT
SUMMARY:Kind-(groot)ouder yoga
DTSTART;TZID=Europe/Brussels:20210328T130500
DTEND;TZID=Europe/Brussels:20210328T140500
LOCATION:Schopboshoeve (Grensstraat 36 2580 Grasheide)
DESCRIPTION: Je schrijft je in per koppel (15€ voor kind+ouder).
STATUS:CONFIRMED
SEQUENCE:0
END:VEVENT
END:VCALENDAR