BEGIN:VCALENDAR
VERSION:2.0
CALSCALE:GREGORIAN
BEGIN:VEVENT
SUMMARY:STAGE D&#039;HIVER &quot;Yoga &amp; more&quot;
DTSTART;TZID=Europe/Paris:20241122T191500
DTEND;TZID=Europe/Paris:20241122T211500
LOCATION:Marché du Lez
DESCRIPTION: Stage d&#039;Hiver avec Andréa

9h de pratique pour un week-end immersif et transformateur, 
composé de :
5 de yoga dynamique
2h de yoga restauratif
2h de méditation / pranayama / philo

Horaires :
Vendredi 22 Novembre 19h15-21h
Samedi 23 Novembre 09h-12h30
Dimanche 24 Novembre 09h-12h30
(on déborde souvent un petit peu)

À quoi s&#039;attendre :
Une pratique puissante, qui recentre, qui replace les besoins de l&#039;âme au coeur des priorités. 
Une immersion qui REconnecte à soi, tout simplement.
Et pour cela, faire le vide, le silence, 
Détoxifier le corps et l&#039;esprit, faire de la place,
Laisser s&#039;EXprimer l&#039;âme...
Puis passer par le corps pour ENgramer, IMprimer le message dans les cellules.
Et laisser infuser la pratique, au plus profond et sur tous les plans : 
physique, mental, énergétique, subtil. 

Voilà la promesse du week-end :-)

Tarif : 180€ pour le week-end.
règlement sur place le vendredi soir par chèque ou espèce (pas de CB)

Ouvert à tous,
Pas de niveau de pratique requis
(Je ne détaille pas cependant les postures de base)

Groupe de taille humaine (16 personnes max)
STATUS:CONFIRMED
SEQUENCE:0
END:VEVENT
END:VCALENDAR