BEGIN:VCALENDAR
VERSION:2.0
CALSCALE:GREGORIAN
BEGIN:VEVENT
SUMMARY:STAGE DE PRINTEMPS Yoga &amp; more
DTSTART;TZID=Europe/Paris:20250314T193000
DTEND;TZID=Europe/Paris:20250314T210000
LOCATION:Marché du Lez
DESCRIPTION: Stage de printemps avec Andréa 
vendredi samedi dimanche 14/16 mars 
(l&#039;inscription à la session du vendredi soir vaut pour le week-end)
Thème : &quot;Be real&quot;

Être soi-même...un sacré challenge, et à la fois une nécessité absolue, pour vivre en paix !
Ce stage a pour vocation de laisser s&#039;exprimer votre voix la plus intime. Celle qui sait.
Et pour cela, on passe par le corps physique, énergétique, subtil...pour un travail libérateur !
Qui apporte de l&#039;harmonie intérieure et de la paix. 

Composition du week-end : 
9h de pratique pour un week-end immersif et transformateur, 
composé de :
5 de yoga dynamique
2h de yoga restauratif
2h de méditation / pranayama / philo

Horaires :
Vendredi 14 Mars 19h15-21h
Samedi 15 Mars 09h-12h30
Dimanche 16 Mars 09h-12h30
(on déborde souvent un petit peu)

À quoi s&#039;attendre :
Une pratique puissante, qui recentre, qui replace les besoins de l&#039;âme au coeur des priorités. 
Une immersion qui REconnecte à soi, tout simplement.
Et pour cela, faire le vide, le silence, 
Détoxifier le corps et l&#039;esprit, faire de la place,
Laisser s&#039;EXprimer l&#039;âme...
Puis passer par le corps pour ENgramer, IMprimer le message dans les cellules.
Et laisser infuser la pratique, au plus profond et sur tous les plans : 
physique, mental, énergétique, subtil. 

Voilà la promesse du week-end :-)

Tarif : 180€ pour le week-end.
règlement sur place le vendredi soir par chèque ou espèce (pas de CB)

Ouvert à tous,
Pas de niveau de pratique requis
(Je ne détaille pas cependant les postures de base)

Groupe de taille humaine (16 personnes max)
STATUS:CONFIRMED
SEQUENCE:0
END:VEVENT
END:VCALENDAR