BEGIN:VCALENDAR
VERSION:2.0
CALSCALE:GREGORIAN
BEGIN:VEVENT
SUMMARY:YOGA SUR LA PLAGE avec Gaëlle &lt;3
DTSTART;TZID=Europe/Paris:20250823T083000
DTEND;TZID=Europe/Paris:20250823T093000
LOCATION:Plage des roquilles Carnon
DESCRIPTION: Comme tous les étés, RDV SUR LA PLAGE LE SAMEDI MATIN !
rien de mieux pour débuter son week-end : un cours de vinyasa face à la mer, les pieds dans le sable, pour se recharger au contact des éléments, se détendre après la semaine, et bouger au rythme des vagues et de la brise !

LIEU
plage des Roquilles (Carnon ouest, proche de l&#039;hôtel Plage Palace)

IMPORTANT
Infos précises transmises aux inscrits par e-mail

ENSEIGNÉ PAR
Juliette Duparc (ou remplaçante)

INCLUS
dans vos abonnements
ouvert aux personnes extérieures (tarif cours en extérieur ou autre formule)

HORAIRE
pouvant varier dans l&#039;été selon la chaleur, donc pensez à bien vérifier !

ANNULATION
possible si mauvaise météo, et dans ce cas nous vous envoyons un email la veille au soir ou le matin tôt
STATUS:CONFIRMED
SEQUENCE:0
END:VEVENT
END:VCALENDAR