BEGIN:VCALENDAR
VERSION:2.0
CALSCALE:GREGORIAN
BEGIN:VEVENT
SUMMARY:VINYASA avec Estelle 17h30 !
DTSTART;TZID=Europe/Paris:20250927T173000
DTEND;TZID=Europe/Paris:20250927T183000
LOCATION:Marché du Lez
DESCRIPTION: 
STATUS:CONFIRMED
SEQUENCE:0
END:VEVENT
END:VCALENDAR