BEGIN:VCALENDAR
VERSION:2.0
CALSCALE:GREGORIAN
BEGIN:VEVENT
SUMMARY:Bøy og Tøy med Colleen - Dina er borte!
DTSTART;TZID=Europe/Oslo:20231101T120000
DTEND;TZID=Europe/Oslo:20231101T125000
LOCATION:Solskinn og Latter
DESCRIPTION: I dag blir det rett og slett Bøy og Tøy. Jeg får ikke tak i vikar - men synes en god bøy og tøy time kan vi ha godt av også! Håper du vil fortsatt å bli med! :-)
STATUS:CONFIRMED
SEQUENCE:0
END:VEVENT
END:VCALENDAR