BEGIN:VCALENDAR
VERSION:2.0
CALSCALE:GREGORIAN
BEGIN:VEVENT
SUMMARY:Inversjon - Opp Ned - med Dina
DTSTART;TZID=Europe/Oslo:20231002T100000
DTEND;TZID=Europe/Oslo:20231002T105000
LOCATION:Solskinn og Latter
DESCRIPTION: 
STATUS:CONFIRMED
SEQUENCE:0
END:VEVENT
END:VCALENDAR