BEGIN:VCALENDAR
VERSION:2.0
CALSCALE:GREGORIAN
BEGIN:VEVENT
SUMMARY:Cours Visio Test 2
DTSTART;TZID=Europe/Paris:20260104T123000
DTEND;TZID=Europe/Paris:20260104T130000
LOCATION:
DESCRIPTION: 
STATUS:CONFIRMED
SEQUENCE:0
END:VEVENT
END:VCALENDAR