BEGIN:VCALENDAR
VERSION:2.0
CALSCALE:GREGORIAN
BEGIN:VEVENT
SUMMARY:Yogathérapie: restaurer sa force tranquille
DTSTART;TZID=Europe/Paris:20260112T181500
DTEND;TZID=Europe/Paris:20260112T191500
LOCATION:64 rue des Tournelles, 75003
DESCRIPTION: &quot;La force tranquille désigne une puissance, une détermination ou une énergie qui s&#039;exprime de manière sereine et paisible. Elle reflète une confiance en soi profonde, une stabilité émotionnelle et une capacité à agir avec fermeté tout en restant calme et mesuré.&quot;

Cette séance vise à cultiver le calme intérieur et la confiance en soi. En groupe, on explorera des postures, des mouvements, des exercices de respiration, de visualisation et de relaxation afin de créer de l&#039;espace dans le corps, de favoriser une respiration plus fluide et d&#039;apaiser le mental. 

L&#039;objectif est de ressortir de la séance à la fois énergisé(e) et détendu(e), en repartant avec des outils concrets pour cultiver cet état au-delà du tapis, dans votre quotidien, quand vous en avez besoin.
STATUS:CONFIRMED
SEQUENCE:0
END:VEVENT
END:VCALENDAR