BEGIN:VCALENDAR
VERSION:2.0
CALSCALE:GREGORIAN
BEGIN:VEVENT
SUMMARY:Vinyasa Flow
DTSTART;TZID=Europe/Amsterdam:20160802T183000
DTEND;TZID=Europe/Amsterdam:20160802T194500
LOCATION:Studio Hoog en Droog
DESCRIPTION: Vinyasa Flow is een krachtige, dynamische vorm van yoga. 
De oefeningen worden verbonden met elkaar door vloeiende bewegingen en de adem. Er wordt gebruikt gemaakt van de Zonnegroet in verschillende uitvoeringen.
STATUS:CONFIRMED
SEQUENCE:0
END:VEVENT
END:VCALENDAR