BEGIN:VCALENDAR
VERSION:2.0
CALSCALE:GREGORIAN
BEGIN:VEVENT
SUMMARY:Yoga Plus
DTSTART;TZID=Europe/Amsterdam:20160728T103000
DTEND;TZID=Europe/Amsterdam:20160728T114500
LOCATION:Studio Hoog en Droog
DESCRIPTION: Yoga Plus is een aangepaste vorm van yoga speciaal voor mensen met fysieke beperkingen of blessures. Er kan bijvoorbeeld gebruik gemaakt worden van een stoel, als zitten op de grond niet gaat. De houdingen zijn vooral bedoeld om te herstellen en fysiek weer sterker te worden. Ook voor ouderen en zwangeren zeer geschikt.
STATUS:CONFIRMED
SEQUENCE:0
END:VEVENT
END:VCALENDAR