BEGIN:VCALENDAR
VERSION:2.0
CALSCALE:GREGORIAN
BEGIN:VEVENT
SUMMARY:YinYoga Summer
DTSTART;TZID=Europe/Zurich:20240815T180000
DTEND;TZID=Europe/Zurich:20240815T190000
LOCATION:Murten
DESCRIPTION: Unsere erste YinYoga Stunde nach der Sommerpause!
STATUS:CONFIRMED
SEQUENCE:0
END:VEVENT
END:VCALENDAR