BEGIN:VCALENDAR
VERSION:2.0
CALSCALE:GREGORIAN
BEGIN:VEVENT
SUMMARY:Active Flow
DTSTART;TZID=Europe/Zurich:20241209T093000
DTEND;TZID=Europe/Zurich:20241209T103000
LOCATION:Meyland
DESCRIPTION: Starte gestärkt, geerdet und entspannt in die Woche! 
Nimm dir am Wochenanfang bewusst einen Moment Zeit für dich und lass dich von diesem guten Gefühl in den Alltag begleiten.
STATUS:CONFIRMED
SEQUENCE:0
END:VEVENT
END:VCALENDAR