BEGIN:VCALENDAR
VERSION:2.0
CALSCALE:GREGORIAN
BEGIN:VEVENT
SUMMARY:Yoga débutants
DTSTART;TZID=Europe/Paris:20250527T180000
DTEND;TZID=Europe/Paris:20250527T191500
LOCATION:La Note Epicée
DESCRIPTION: Ce cours est conçu pour acquérir les bases du Yoga. C&#039;est un cours tremplin, qui vous permettra d&#039;accéder à d&#039;autres cours. Smaëlle saura vous guider.
STATUS:CONFIRMED
SEQUENCE:0
END:VEVENT
END:VCALENDAR