BEGIN:VCALENDAR
VERSION:2.0
CALSCALE:GREGORIAN
BEGIN:VEVENT
SUMMARY:Senior Sunrise
DTSTART;TZID=Europe/Paris:20250320T073000
DTEND;TZID=Europe/Paris:20250320T084500
LOCATION:La Note Epicée
DESCRIPTION: Un cours matinal pour les seniors
STATUS:CONFIRMED
SEQUENCE:0
END:VEVENT
END:VCALENDAR