BEGIN:VCALENDAR
VERSION:2.0
CALSCALE:GREGORIAN
BEGIN:VEVENT
SUMMARY:Stage Yoga détox, 2 mai pm, Résa
DTSTART;TZID=Europe/Paris:20250502T140000
DTEND;TZID=Europe/Paris:20250502T170000
LOCATION:La Note Epicée
DESCRIPTION: Réservez ici et payer sur Stage Yoga détox (1er de la liste du 1er mai). Le prix varie selon le nombre de demi-journées
STATUS:CONFIRMED
SEQUENCE:0
END:VEVENT
END:VCALENDAR