BEGIN:VCALENDAR
VERSION:2.0
CALSCALE:GREGORIAN
BEGIN:VEVENT
SUMMARY:Visio: ashtanga série 1 modifiée)
DTSTART;TZID=Europe/Paris:20260218T190000
DTEND;TZID=Europe/Paris:20260218T200000
LOCATION:5 Rue de Cassis 1er Étage
DESCRIPTION: 
STATUS:CONFIRMED
SEQUENCE:0
END:VEVENT
END:VCALENDAR