BEGIN:VCALENDAR
VERSION:2.0
CALSCALE:GREGORIAN
BEGIN:VEVENT
SUMMARY:Cardio Pilates (45&#039;)
DTSTART;TZID=Europe/Paris:20260410T091500
DTEND;TZID=Europe/Paris:20260410T100000
LOCATION:5 rue de cassis 1er étage
DESCRIPTION: 
STATUS:CONFIRMED
SEQUENCE:0
END:VEVENT
END:VCALENDAR