BEGIN:VCALENDAR
VERSION:2.0
CALSCALE:GREGORIAN
BEGIN:VEVENT
SUMMARY:Pilates
DTSTART;TZID=Europe/Paris:20260415T091500
DTEND;TZID=Europe/Paris:20260415T101500
LOCATION:5 Rue de Cassis 1er Étage
DESCRIPTION: 
STATUS:CONFIRMED
SEQUENCE:0
END:VEVENT
END:VCALENDAR