BEGIN:VCALENDAR
VERSION:2.0
CALSCALE:GREGORIAN
BEGIN:VEVENT
SUMMARY:Ashtanga / Vinyasa
DTSTART;TZID=Europe/Paris:20260415T190000
DTEND;TZID=Europe/Paris:20260415T200000
LOCATION:5 Rue de Cassis 1er Étage
DESCRIPTION: Travail sur les postures debout, puis travail spécifique sur certaines postures.
Flow vinyasa de temps en temps
STATUS:CONFIRMED
SEQUENCE:0
END:VEVENT
END:VCALENDAR