BEGIN:VCALENDAR
VERSION:2.0
CALSCALE:GREGORIAN
BEGIN:VEVENT
SUMMARY:Pilates avec Guillaume Ortega
DTSTART;TZID=Europe/Paris:20260421T180000
DTEND;TZID=Europe/Paris:20260421T185500
LOCATION:5 Rue de Cassis 1er Étage
DESCRIPTION: Guillaume Ortega est professeur de Pilates diplômé de la Fédération des Professionnels de la Méthode Pilates (FPMP) et Sophrologue, diplômé de l’Académie de Sophrologie de Paris.
Passionné par le bien-être global du corps et de l’esprit, il accompagne ses élèves vers une meilleure posture, une respiration plus consciente et une gestion du stress au quotidien. Son enseignement allie précision du mouvement et écoute intérieure, afin d’aider chacun à retrouver équilibre, sérénité et vitalité.
STATUS:CONFIRMED
SEQUENCE:0
END:VEVENT
END:VCALENDAR