BEGIN:VCALENDAR
VERSION:2.0
CALSCALE:GREGORIAN
BEGIN:VEVENT
SUMMARY:MASTER CLASS - PILATES RYTHM &amp; FLOW - 25€ sur place
DTSTART;TZID=Europe/Paris:20260320T180000
DTEND;TZID=Europe/Paris:20260320T193000
LOCATION:5 Rue de Cassis 1er Étage
DESCRIPTION: Masterclass avec un percussionniste pour accompagner la pratique rythmique guidée par Anais
Pot de clôture offert
STATUS:CONFIRMED
SEQUENCE:0
END:VEVENT
END:VCALENDAR