BEGIN:VCALENDAR
VERSION:2.0
CALSCALE:GREGORIAN
BEGIN:VEVENT
SUMMARY:Atelier Yoga/ Tarot avec Christine-20€ sur place
DTSTART;TZID=Europe/Paris:20260124T140000
DTEND;TZID=Europe/Paris:20260124T160000
LOCATION:5 Rue de Cassis 1er Étage
DESCRIPTION: Pour fêter la nouvelle année 2026 avec le message de votre Arcane du Tarot de Marseille!!✨
Pour vivre une parenthèse et aller à la découverte d&#039;outils de transformation, une séance où le corps et l’esprit s’harmonisent grâce à la magie du Tarot et du yoga. 🧘‍♀🔮

📅 Date : Samedi 24/1/2026
📍 Lieu : Studio Spirale
⏰ Horaire : 14h-16h, Tarif: 20€
A la découverte du Tarot de Marseille!!
Nous débuterons avec le tirage d&#039;une carte de tarot pour éclairer votre chemin et recevoir des messages inspirants, une méditation et une pratique de yoga doux. Une belle occasion de se reconnecter à soi et à son intuition.
✨ Ouvert à tous, débutants bienvenus !
🔗 Réservez votre place!!
STATUS:CONFIRMED
SEQUENCE:0
END:VEVENT
END:VCALENDAR