BEGIN:VCALENDAR
VERSION:2.0
CALSCALE:GREGORIAN
BEGIN:VEVENT
SUMMARY:Atelier mère fille Pilâtes
DTSTART;TZID=Europe/Paris:20260530T143000
DTEND;TZID=Europe/Paris:20260530T163000
LOCATION:5 Rue de Cassis 1er Étage
DESCRIPTION: Spécial fête des mères 
Atelier mère/fille 
30€ sur place et 5€ pour la fille (copine, cousine, voisine)
STATUS:CONFIRMED
SEQUENCE:0
END:VEVENT
END:VCALENDAR