BEGIN:VCALENDAR
VERSION:2.0
CALSCALE:GREGORIAN
BEGIN:VEVENT
SUMMARY:Fly Heart - Yoga &amp; Pilates Aérien
DTSTART;TZID=Europe/Paris:20260410T174500
DTEND;TZID=Europe/Paris:20260410T183000
LOCATION:5 Rue de Cassis 1er Étage
DESCRIPTION: FlyHeart est une approche de yoga aérien centrée sur l’ouverture du cœur, la légèreté et le lâcher-prise.
Grâce au hamac, le corps se décompresse, la colonne s’allonge et les extensions deviennent plus fluides et sécurisées.

La suspension crée un espace de confiance où l’on explore à la fois la mobilité, la respiration et l’émotion.
Entre force, douceur et apesanteur, FlyHeart invite à se laisser porter, à s’ouvrir et à retrouver une sensation profonde de liberté intérieure.
STATUS:CONFIRMED
SEQUENCE:0
END:VEVENT
END:VCALENDAR