BEGIN:VCALENDAR
VERSION:2.0
CALSCALE:GREGORIAN
BEGIN:VEVENT
SUMMARY:Tarot &amp; Yoga - 20€ sur place
DTSTART;TZID=Europe/Paris:20260425T140000
DTEND;TZID=Europe/Paris:20260425T160000
LOCATION:5 Rue de Cassis 1er Étage
DESCRIPTION: Le printemps est là! Une parenthèse pour aller vers l&#039;énergie du Tarot et du Yoga. 🧘‍♀✨

Au programme: Tirage d&#039;un Arcane de tarot et recevoir des messages inspirants, méditation et yoga doux pour se reconnecter à soi et à son intuition!
Une expérience introspective, sans prédiction, ouverte à tous.💫

📅 Date : Samedi 25 Avril 2026 : de 14h à 16 h. Tarif 20€
📍 Lieu : Studio Spirale

Christine✨
STATUS:CONFIRMED
SEQUENCE:0
END:VEVENT
END:VCALENDAR