BEGIN:VCALENDAR
VERSION:2.0
CALSCALE:GREGORIAN
BEGIN:VEVENT
SUMMARY:EXPERIENCE IMMERSIVE AU PARC
DTSTART;TZID=Europe/Paris:20260521T183000
DTEND;TZID=Europe/Paris:20260521T200000
LOCATION:PARC
DESCRIPTION: 🎧 Breathwork immersif au Parc Borély
avec Céline &amp; DJ Posidoni

Dans un coin isolé, en pleine nature, offrez-vous une parenthèse hors du temps.
Grâce aux casques audio, plongez dans une expérience de breathwork en immersion totale, guidée par la respiration et soutenue par une ambiance musicale enveloppante.

Un moment profond pour relâcher les tensions, apaiser le mental et retrouver une sensation d’espace intérieur, au cœur du vivant.
STATUS:CONFIRMED
SEQUENCE:0
END:VEVENT
END:VCALENDAR