BEGIN:VCALENDAR
VERSION:2.0
CALSCALE:GREGORIAN
BEGIN:VEVENT
SUMMARY:Yin Yoga
DTSTART;TZID=Europe/Berlin:20260427T163000
DTEND;TZID=Europe/Berlin:20260427T174500
LOCATION:Yogastudio
DESCRIPTION: In diesem ruhigen, meditativen Yogastil werden sitzende oder liegende Asanas ohne Muskelspannung für mehrere Minuten eingenommen und in sie hinein entspannt. Der Atem kann frei fließen und Spannungen in Organen, Muskeln, Bindegewebe und Faszien lösen sich auf. So führen intensive Selbstwahrnehmung und Entspannung zu einer tiefen, inneren Ruhe.
STATUS:CONFIRMED
SEQUENCE:0
END:VEVENT
END:VCALENDAR