BEGIN:VCALENDAR
VERSION:2.0
CALSCALE:GREGORIAN
BEGIN:VEVENT
SUMMARY:Hatha Yoga/Healthy Back
DTSTART;TZID=America/Chicago:20200820T090000
DTEND;TZID=America/Chicago:20200820T101500
LOCATION:Laguna Madre Yoga Meditation &amp; Dance Center
DESCRIPTION: Please bring your own props.
limited to 10 students 6ft. distancing. Mask required when not on mat.
Monthly Members only until further notice.
STATUS:CONFIRMED
SEQUENCE:0
END:VEVENT
END:VCALENDAR