BEGIN:VCALENDAR
VERSION:2.0
CALSCALE:GREGORIAN
BEGIN:VEVENT
SUMMARY:Hatha Yoga/Do In
DTSTART;TZID=America/Chicago:20210109T090000
DTEND;TZID=America/Chicago:20210109T101500
LOCATION:Unit 12/foyer
DESCRIPTION: Yoga and stretching activating  prana flow, come with a empty stomach and open mind. As we maneuver the pandemic safely I feel comfortable opening classes for an 8th &amp; 9th member on the carpeted area. Bring your mat and only the props you need for comfort and please continue to wear your mask until on your mat. Namaste.
STATUS:CONFIRMED
SEQUENCE:0
END:VEVENT
END:VCALENDAR