BEGIN:VCALENDAR
VERSION:2.0
CALSCALE:GREGORIAN
BEGIN:VEVENT
SUMMARY:Virtual pranayama
DTSTART;TZID=America/Chicago:20200902T073000
DTEND;TZID=America/Chicago:20200902T083000
LOCATION:Unit 12/foyer
DESCRIPTION: 
STATUS:CONFIRMED
SEQUENCE:0
END:VEVENT
END:VCALENDAR