BEGIN:VCALENDAR
VERSION:2.0
CALSCALE:GREGORIAN
BEGIN:VEVENT
SUMMARY:Vinyasa Flow All Level
DTSTART;TZID=America/Chicago:20210225T183000
DTEND;TZID=America/Chicago:20210225T193000
LOCATION:Laguna Madre Yoga Center
DESCRIPTION: 
STATUS:CONFIRMED
SEQUENCE:0
END:VEVENT
END:VCALENDAR