BEGIN:VCALENDAR
VERSION:2.0
CALSCALE:GREGORIAN
BEGIN:VEVENT
SUMMARY:Summer Yoga Series - Summer Slow Flow
DTSTART;TZID=Europe/Stockholm:20230714T090000
DTEND;TZID=Europe/Stockholm:20230714T101500
LOCATION:Ludvigsgården
DESCRIPTION: A slow and steady but strong practice where you can really feel into the poses and ground yourself! We will hold poses for several breaths, building strength and awareness of the body! You could also call this class the &quot;slow burn&quot;, and we&#039;ll aim to release stagnation in the body through breath and intention in the poses.

Enjoy a nice long savasana at the end!
STATUS:CONFIRMED
SEQUENCE:0
END:VEVENT
END:VCALENDAR