BEGIN:VCALENDAR
VERSION:2.0
CALSCALE:GREGORIAN
BEGIN:VEVENT
SUMMARY:Summer Flow Yoga **ONLINE**
DTSTART;TZID=Europe/Brussels:20250813T073000
DTEND;TZID=Europe/Brussels:20250813T083000
LOCATION:Online via Google Meet
DESCRIPTION: **Dit is een online les, je volgt deze in real time via Google Meet. Net voor de les ontvang je een link naar de live stream, houd je e-mail dus in het oog!**

Deze les geeft je een krachtige boost tijdens de vroege, frisse ochtenduren. We combineren krachtige houdingen, dynamische bewegingen en bewuste ademhaling om focus en kracht te stimuleren. 

Deze les is minder geschikt voor absolute beginners.
STATUS:CONFIRMED
SEQUENCE:0
END:VEVENT
END:VCALENDAR