BEGIN:VCALENDAR
VERSION:2.0
CALSCALE:GREGORIAN
BEGIN:VEVENT
SUMMARY:BEWEEG-HANGMAT YOGA- BEGINNERS met Gitte
DTSTART;TZID=Europe/Brussels:20250718T100000
DTEND;TZID=Europe/Brussels:20250718T110500
LOCATION:Straal-ruimte, blok 3, Citadel, Diest
DESCRIPTION: 
STATUS:CONFIRMED
SEQUENCE:0
END:VEVENT
END:VCALENDAR