BEGIN:VCALENDAR
VERSION:2.0
CALSCALE:GREGORIAN
BEGIN:VEVENT
SUMMARY:Power Flow Yoga (Piekhouding Sirsasana - hoofdstand)
DTSTART;TZID=Europe/Brussels:20250821T193000
DTEND;TZID=Europe/Brussels:20250821T203000
LOCATION:Stroom-ruimte, blok 3, Citadel, Diest
DESCRIPTION: Tijdens deze les bouwen we kracht, focus en vertrouwen op in een dynamische flow. We werken bewust naar sirsasana (de hoofdstand) toe. Ook als je (nog) niet in hoofdstand komt, neem je waardevolle tools en lichaamsbewustzijn mee uit deze practice.

Verwacht een krachtige les met een creatieve opbouw die je uitnodigt om je grenzen te verkennen.
STATUS:CONFIRMED
SEQUENCE:0
END:VEVENT
END:VCALENDAR