BEGIN:VCALENDAR
VERSION:2.0
CALSCALE:GREGORIAN
BEGIN:VEVENT
SUMMARY:Hatha Yoga
DTSTART;TZID=Europe/Brussels:20250923T194500
DTEND;TZID=Europe/Brussels:20250923T210000
LOCATION:Stroom-ruimte, blok 3, Citadel, Diest
DESCRIPTION: In samenwerking met Hybrid Academy

In deze lessen ligt de focus meer op de geneeskrachtige houdingen of asana&#039;s. De houdingen worden langer aangehouden met veel aandacht voor ademhaling en bewustzijn in de houding. 

Het is een actievere vorm waarbij je na afloop voelt dat elk deel van je lichaam gestimuleerd is en opnieuw gevitaliseerd door een nieuwe stroom van zuurstof en voedingsstoffen.
STATUS:CONFIRMED
SEQUENCE:0
END:VEVENT
END:VCALENDAR