BEGIN:VCALENDAR
VERSION:2.0
CALSCALE:GREGORIAN
BEGIN:VEVENT
SUMMARY:De dans van het Hart
DTSTART;TZID=Europe/Brussels:20251010T170000
DTEND;TZID=Europe/Brussels:20251010T183000
LOCATION:Straal en stroom, blok 3, Citadel, Diest
DESCRIPTION: Kom mee vrij dansen met Elise!

Kom je mee dansen met het leven? 
In totaal doet Elise 5 momenten om te proeven van de weldaad van beweging, verbinding, prachtige muziek en inspirerende oefeningen. 
Een sessie duurt 1u30 
Voorzie gemakkelijke kledij, een flesje water en vooral véééééél zin om je uit te leven!!

Lesgeefster: Elise Pieck, volgde de driejarige opleiding van Biodanza. 

Prijs: 10 euro voor je eerste sessie, 55 euro voor de volledige reeks van 5 sessies. 10 en 17 oktober + 7 en 21 november + 5 december. 

Laat je weten of je erbij. kan zijn? 
0477358833
elisepieck@gmail.com
STATUS:CONFIRMED
SEQUENCE:0
END:VEVENT
END:VCALENDAR