BEGIN:VCALENDAR
VERSION:2.0
CALSCALE:GREGORIAN
BEGIN:VEVENT
SUMMARY:*PROEFLES*1- BEWEEG HANGMAT YOGA
DTSTART;TZID=Europe/Brussels:20260107T174500
DTEND;TZID=Europe/Brussels:20260107T184500
LOCATION:Stroom-ruimte, blok 3, Citadel, Diest
DESCRIPTION: 
STATUS:CONFIRMED
SEQUENCE:0
END:VEVENT
END:VCALENDAR