BEGIN:VCALENDAR
VERSION:2.0
CALSCALE:GREGORIAN
BEGIN:VEVENT
SUMMARY:Journey into Sound - Sound Healing
DTSTART;TZID=Europe/Brussels:20260413T193000
DTEND;TZID=Europe/Brussels:20260413T210000
LOCATION:Straal studio, blok 3, Citadel, Diest
DESCRIPTION: Laat je meenemen op reis naar binnen door klank en trillingen. Een sessie met klankschalen, handpan en andere instrumenten.

Ervaar een diepe ontspanning en voel hoe geluid je lichaam ondersteunt, ruimte maakt in je zenuwstelsel en je helpt landen in jezelf.

Prijs: €30

Boeken via link of 0473314269
STATUS:CONFIRMED
SEQUENCE:0
END:VEVENT
END:VCALENDAR