BEGIN:VCALENDAR
VERSION:2.0
CALSCALE:GREGORIAN
BEGIN:VEVENT
SUMMARY:Beginning Yoga
DTSTART;TZID=America/Toronto:20260210T193000
DTEND;TZID=America/Toronto:20260210T204500
LOCATION:819 Weaver Rd, Port Colborne (or Zoom)
DESCRIPTION: For series details visit: &lt;a href=&quot;https://gentlydownthestream.ca/beginning-yoga/&quot; target=&quot;_blank&quot; rel=&quot;noopener&quot;&gt;
  Beginning Yoga
&lt;/a&gt;
STATUS:CONFIRMED
SEQUENCE:0
END:VEVENT
END:VCALENDAR