BEGIN:VCALENDAR
VERSION:2.0
CALSCALE:GREGORIAN
BEGIN:VEVENT
SUMMARY:Reclaim Your Rest
DTSTART;TZID=America/Toronto:20260301T083000
DTEND;TZID=America/Toronto:20260301T094500
LOCATION:819 Weaver Rd, Port Colborne (or Zoom)
DESCRIPTION: For series details visit: &lt;a href=&quot;https://gentlydownthestream.ca/reclaim-your-rest/&quot; target=&quot;_blank&quot; rel=&quot;noopener&quot;&gt;
  Reclaim your Rest
&lt;/a&gt;
STATUS:CONFIRMED
SEQUENCE:0
END:VEVENT
END:VCALENDAR